BEGIN:VCALENDAR
VERSION:2.0
PRODID:-//wp-events-plugin.com//7.2.3.1//EN
TZID:Europe/Paris
X-WR-TIMEZONE:Europe/Paris
BEGIN:VEVENT
UID:18@sportsaubarreau.org
DTSTART;TZID=Europe/Paris:20220525T000000
DTEND;TZID=Europe/Paris:20220529T000000
DTSTAMP:20220121T162329Z
URL:https://sportsaubarreau.org/evenements/jeux-nationaux-ffse/
SUMMARY:Jeux NATIONAUX FFSE
DESCRIPTION:Les Jeux Nationaux du Sport en Entreprise auront lieu du 25 au 
 29 mai 2022 à Tours.\n\nPour informations et inscriptions: spab@avocatpar
 is.org et promotion@ffse.fr
ATTACH;FMTTYPE=image/jpeg:https://sportsaubarreau.org/wp-content/uploads/2
 020/02/logo_ffse_cmjn.jpg
END:VEVENT
BEGIN:VTIMEZONE
TZID:Europe/Paris
X-LIC-LOCATION:Europe/Paris
BEGIN:DAYLIGHT
DTSTART:20220327T030000
TZOFFSETFROM:+0100
TZOFFSETTO:+0200
TZNAME:CEST
END:DAYLIGHT
END:VTIMEZONE
END:VCALENDAR